{
 "currentVersion": 11.4,
 "serviceDescription": "IKN/Indeks_kerentanan_Banjir",
 "name": "IKN/Indeks_kerentanan_Banjir",
 "description": "",
 "extent": {
  "xmin": 467802.0019227024,
  "ymin": 9888741.196203219,
  "xmax": 485934.5019227024,
  "ymax": 9909293.696203219,
  "spatialReference": {
   "wkid": 32750,
   "latestWkid": 32750
  }
 },
 "initialExtent": {
  "xmin": 467802.0019227024,
  "ymin": 9888741.196203219,
  "xmax": 485934.5019227024,
  "ymax": 9909293.696203219,
  "spatialReference": {
   "wkid": 32750,
   "latestWkid": 32750
  }
 },
 "fullExtent": {
  "xmin": 467802.0019227024,
  "ymin": 9888741.196203219,
  "xmax": 485934.5019227024,
  "ymax": 9909293.696203219,
  "spatialReference": {
   "wkid": 32750,
   "latestWkid": 32750
  }
 },
 "sortableFields": "",
 "bandCount": 1,
 "pixelType": "F64",
 "minValues": [
  0.296
 ],
 "maxValues": [
  0.513
 ],
 "meanValues": [
  0.32941348420961797
 ],
 "stdvValues": [
  0.04886843610580193
 ],
 "hasMultidimensions": false,
 "pixelSizeX": 2.5,
 "pixelSizeY": 2.5,
 "meanPixelSize": 2.5,
 "datasetFormat": "FGDBR",
 "uncompressedSize": 477015304,
 "blockWidth": 128,
 "blockHeight": 128,
 "compressionType": "LZ77",
 "bandNames": [
  "Band_1"
 ],
 "allowCopy": true,
 "allowAnalysis": true,
 "itemAccess": false,
 "inspectionCapabilities": "",
 "minPixelSize": 0,
 "maxPixelSize": 0,
 "copyrightText": "",
 "serviceDataType": "esriImageServiceDataTypeGeneric",
 "serviceSourceType": "esriImageServiceSourceTypeDataset",
 "objectIdField": "",
 "fields": [],
 "capabilities": "Image,Metadata,Mensuration",
 "defaultMosaicMethod": "Center",
 "allowedMosaicMethods": "",
 "sortField": "",
 "sortValue": null,
 "sortAscending": true,
 "mosaicOperator": "First",
 "defaultCompressionQuality": 75,
 "defaultResamplingMethod": "Bilinear",
 "maxImageHeight": 4100,
 "maxImageWidth": 15000,
 "allowRasterFunction": true,
 "rasterFunctionInfos": [
  {
   "name": "Indeks_kerentanan_Banjir_rev",
   "description": "Indeks_kerentanan_Banjir_rev",
   "help": ""
  },
  {
   "name": "None",
   "description": "",
   "help": ""
  }
 ],
 "rasterTypeInfos": [
  {
   "name": "Raster Dataset",
   "description": "Supports all ArcGIS Raster Datasets",
   "help": ""
  }
 ],
 "mensurationCapabilities": "Basic",
 "hasHistograms": true,
 "hasColormap": false,
 "hasRasterAttributeTable": false,
 "minScale": 0,
 "maxScale": 0,
 "exportTilesAllowed": false,
 "supportsStatistics": false,
 "supportsAdvancedQueries": false,
 "editFieldsInfo": null,
 "ownershipBasedAccessControlForRasters": null,
 "allowComputeTiePoints": false,
 "useStandardizedQueries": true,
 "advancedQueryCapabilities": {
  "useStandardizedQueries": true,
  "supportsStatistics": false,
  "supportsOrderBy": false,
  "supportsDistinct": false,
  "supportsPagination": false
 },
 "spatialReference": {
  "wkid": 32750,
  "latestWkid": 32750
 }
}
