<?xml version="1.0" encoding="UTF-8" standalone="no"?>
<metadata xml:lang="en">
<Esri>
<CreaDate>20211027</CreaDate>
<CreaTime>20420600</CreaTime>
<ArcGISFormat>1.0</ArcGISFormat>
<SyncOnce>FALSE</SyncOnce>
<DataProperties>
<itemProps>
<itemName Sync="TRUE">INARISKPOP_2020_TOPDOWN_KECAMATAN</itemName>
<imsContentType Sync="FALSE" export="False">007</imsContentType>
<nativeExtBox>
<westBL Sync="TRUE">10572228.845373</westBL>
<eastBL Sync="TRUE">15698328.845373</eastBL>
<southBL Sync="TRUE">-1224845.162247</southBL>
<northBL Sync="TRUE">673254.837753</northBL>
<exTypeCode Sync="TRUE">1</exTypeCode>
</nativeExtBox>
</itemProps>
<coordRef>
<type Sync="TRUE">Projected</type>
<geogcsn Sync="TRUE">GCS_WGS_1984</geogcsn>
<csUnits Sync="TRUE">Linear Unit: Meter (1.000000)</csUnits>
<projcsn Sync="TRUE">WGS_1984_World_Mercator</projcsn>
<peXml Sync="TRUE">&lt;ProjectedCoordinateSystem xsi:type='typens:ProjectedCoordinateSystem' xmlns:xsi='http://www.w3.org/2001/XMLSchema-instance' xmlns:xs='http://www.w3.org/2001/XMLSchema' xmlns:typens='http://www.esri.com/schemas/ArcGIS/10.3'&gt;&lt;WKT&gt;PROJCS[&amp;quot;WGS_1984_World_Mercator&amp;quot;,GEOGCS[&amp;quot;GCS_WGS_1984&amp;quot;,DATUM[&amp;quot;D_WGS_1984&amp;quot;,SPHEROID[&amp;quot;WGS_1984&amp;quot;,6378137.0,298.257223563]],PRIMEM[&amp;quot;Greenwich&amp;quot;,0.0],UNIT[&amp;quot;Degree&amp;quot;,0.0174532925199433]],PROJECTION[&amp;quot;Mercator&amp;quot;],PARAMETER[&amp;quot;False_Easting&amp;quot;,0.0],PARAMETER[&amp;quot;False_Northing&amp;quot;,0.0],PARAMETER[&amp;quot;Central_Meridian&amp;quot;,0.0],PARAMETER[&amp;quot;Standard_Parallel_1&amp;quot;,0.0],UNIT[&amp;quot;Meter&amp;quot;,1.0],AUTHORITY[&amp;quot;EPSG&amp;quot;,3395]]&lt;/WKT&gt;&lt;XOrigin&gt;-20037700&lt;/XOrigin&gt;&lt;YOrigin&gt;-30198300&lt;/YOrigin&gt;&lt;XYScale&gt;149134210.44795552&lt;/XYScale&gt;&lt;ZOrigin&gt;-100000&lt;/ZOrigin&gt;&lt;ZScale&gt;10000&lt;/ZScale&gt;&lt;MOrigin&gt;-100000&lt;/MOrigin&gt;&lt;MScale&gt;10000&lt;/MScale&gt;&lt;XYTolerance&gt;0.001&lt;/XYTolerance&gt;&lt;ZTolerance&gt;0.001&lt;/ZTolerance&gt;&lt;MTolerance&gt;0.001&lt;/MTolerance&gt;&lt;HighPrecision&gt;true&lt;/HighPrecision&gt;&lt;WKID&gt;3395&lt;/WKID&gt;&lt;LatestWKID&gt;3395&lt;/LatestWKID&gt;&lt;/ProjectedCoordinateSystem&gt;</peXml>
</coordRef>
</DataProperties>
<SyncDate>20211027</SyncDate>
<SyncTime>21584800</SyncTime>
<ModDate>20211027</ModDate>
<ModTime>22170300</ModTime>
<scaleRange>
<minScale>150000000</minScale>
<maxScale>5000</maxScale>
</scaleRange>
<ArcGISProfile>FGDC</ArcGISProfile>
</Esri>
<dataIdInfo>
<envirDesc Sync="TRUE"> Version 6.2 (Build 9200) ; Esri ArcGIS 10.3.0.4322</envirDesc>
<dataLang>
<languageCode Sync="TRUE" value="eng">
</languageCode>
<countryCode Sync="TRUE" value="USA">
</countryCode>
</dataLang>
<idCitation>
<resTitle Sync="TRUE">INARISKPOP_2020_TOPDOWN_KECAMATAN</resTitle>
<presForm>
<PresFormCd Sync="FALSE" value="003">
</PresFormCd>
<fgdcGeoform>raster digital data</fgdcGeoform>
</presForm>
<date>
<createDate>2020-11-30T00:00:00</createDate>
<pubDate>2021-03-25T00:00:00</pubDate>
<reviseDate>2021-09-15T00:00:00</reviseDate>
</date>
<citRespParty>
<rpIndName>Dr. Ir. Udrekh, S.E., M.Sc</rpIndName>
<rpOrgName>National Disaster Management Authority</rpOrgName>
<rpPosName>Director of Director of Disaster Risk Mapping and Evaluation</rpPosName>
<role>
<RoleCd value="011">
</RoleCd>
</role>
</citRespParty>
</idCitation>
<spatRpType>
<SpatRepTypCd Sync="TRUE" value="002">
</SpatRepTypCd>
</spatRpType>
<dataExt>
<geoEle>
<GeoBndBox esriExtentType="search">
<exTypeCode Sync="TRUE">1</exTypeCode>
<westBL Sync="TRUE">94.971948</westBL>
<eastBL Sync="TRUE">141.020487</eastBL>
<northBL Sync="TRUE">6.077132</northBL>
<southBL Sync="TRUE">-11.007865</southBL>
</GeoBndBox>
</geoEle>
</dataExt>
<idPurp>Disaster risk analysis requires accurate population distribution data to proximate the element at risk which is part of the vulnerability components. The...</idPurp>
<idAbs>&lt;DIV STYLE="text-align:Left;"&gt;&lt;DIV&gt;&lt;DIV&gt;&lt;P&gt;&lt;SPAN STYLE="font-size:16pt"&gt;Population distribution as one of the parameters of disaster vulnerability is needed in a disaster risk assessment. Analysis of approaches to determine the spatial population distribution can use many methodological alternatives. The general approach used in Indonesia is distribution approach based on results of a survey or census, where the number of population density is distributed evenly within the administrative borders. Another approach used by Worldpop using Random Regression Tree model-based Forest Mapping. Both of these methodologies have their respective advantages and disadvantages. This study was conducted by combining these two methods and adding some data and parameters as driving factors on the scale of analysis of spatial resolution (grid size) 0.000833333 decimal degrees (approximately 100 m in equatorial region) for case study in Banten Province. Data processing is performed by raster analysis approach and using GIS. The results obtained for the better with the cost requirements are also more affordable and can be utilized to calculate the level of disaster risk in an area.&lt;/SPAN&gt;&lt;/P&gt;&lt;/DIV&gt;&lt;/DIV&gt;&lt;/DIV&gt;</idAbs>
<searchKeys>
<keyword>Population Distribution</keyword>
<keyword>Geographic Information System</keyword>
<keyword>Spatial Analysis</keyword>
<keyword>Disaster vulnerability</keyword>
</searchKeys>
<themeKeys>
<keyword>Population density</keyword>
</themeKeys>
<dataChar>
<CharSetCd value="004">
</CharSetCd>
</dataChar>
<resMaint>
<maintFreq>
<MaintFreqCd value="009">
</MaintFreqCd>
</maintFreq>
</resMaint>
<tpCat>
<TopicCatCd value="010">
</TopicCatCd>
</tpCat>
<idCredit/>
<resConst>
<Consts>
<useLimit/>
</Consts>
</resConst>
</dataIdInfo>
<mdLang>
<languageCode Sync="TRUE" value="eng">
</languageCode>
<countryCode Sync="TRUE" value="USA">
</countryCode>
</mdLang>
<mdChar>
<CharSetCd Sync="TRUE" value="004">
</CharSetCd>
</mdChar>
<distInfo>
<distFormat>
<formatName Sync="TRUE">File Geodatabase Raster Dataset</formatName>
</distFormat>
</distInfo>
<mdHrLv>
<ScopeCd Sync="TRUE" value="005">
</ScopeCd>
</mdHrLv>
<mdHrLvName Sync="TRUE">dataset</mdHrLvName>
<refSysInfo>
<RefSystem>
<refSysID>
<identCode Sync="TRUE" code="3395">
</identCode>
<idCodeSpace Sync="TRUE">EPSG</idCodeSpace>
<idVersion Sync="TRUE">8.2.6</idVersion>
</refSysID>
</RefSystem>
</refSysInfo>
<spdoinfo>
<rastinfo>
<rasttype Sync="TRUE">Pixel</rasttype>
<rowcount Sync="TRUE">18981</rowcount>
<colcount Sync="TRUE">51261</colcount>
<rastxsz Sync="TRUE">100.000000</rastxsz>
<rastysz Sync="TRUE">100.000000</rastysz>
<rastbpp Sync="TRUE">32</rastbpp>
<vrtcount Sync="TRUE">1</vrtcount>
<rastorig Sync="TRUE">Upper Left</rastorig>
<rastcmap Sync="TRUE">FALSE</rastcmap>
<rastcomp Sync="TRUE">NONE</rastcomp>
<rastband Sync="TRUE">1</rastband>
<rastdtyp Sync="TRUE">pixel codes</rastdtyp>
<rastifor Sync="TRUE">FGDBR</rastifor>
<rastplyr Sync="TRUE">TRUE</rastplyr>
</rastinfo>
</spdoinfo>
<spref>
<horizsys>
<planar>
<planci>
<plance Sync="TRUE">row and column</plance>
<coordrep>
<absres Sync="TRUE">100.000000</absres>
<ordres Sync="TRUE">100.000000</ordres>
</coordrep>
</planci>
</planar>
</horizsys>
</spref>
<mdDateSt Sync="TRUE">20211027</mdDateSt>
</metadata>
