{ "currentVersion": 11.4, "serviceDescription": "
Population distribution as one of the parameters of disaster vulnerability is needed in a disaster risk assessment. Analysis of approaches to determine the spatial population distribution can use many methodological alternatives. The general approach used in Indonesia is distribution approach based on results of a survey or census, where the number of population density is distributed evenly within the administrative borders. Another approach used by Worldpop using Random Regression Tree model-based Forest Mapping. Both of these methodologies have their respective advantages and disadvantages. This study was conducted by combining these two methods and adding some data and parameters as driving factors on the scale of analysis of spatial resolution (grid size) 0.000833333 decimal degrees (approximately 100 m in equatorial region) for case study in Banten Province. Data processing is performed by raster analysis approach and using GIS. The results obtained for the better with the cost requirements are also more affordable and can be utilized to calculate the level of disaster risk in an area.<\/SPAN><\/P><\/DIV><\/DIV><\/DIV>",
"name": "inarisk/INARISKPOP_2020",
"description": " Population distribution as one of the parameters of disaster vulnerability is needed in a disaster risk assessment. Analysis of approaches to determine the spatial population distribution can use many methodological alternatives. The general approach used in Indonesia is distribution approach based on results of a survey or census, where the number of population density is distributed evenly within the administrative borders. Another approach used by Worldpop using Random Regression Tree model-based Forest Mapping. Both of these methodologies have their respective advantages and disadvantages. This study was conducted by combining these two methods and adding some data and parameters as driving factors on the scale of analysis of spatial resolution (grid size) 0.000833333 decimal degrees (approximately 100 m in equatorial region) for case study in Banten Province. Data processing is performed by raster analysis approach and using GIS. The results obtained for the better with the cost requirements are also more affordable and can be utilized to calculate the level of disaster risk in an area.<\/SPAN><\/P><\/DIV><\/DIV><\/DIV>",
"extent": {
"xmin": 1.0572228845372679E7,
"ymin": -1224845.162247455,
"xmax": 1.5698328845372679E7,
"ymax": 673254.837752545,
"spatialReference": {
"wkid": 3395,
"latestWkid": 3395
}
},
"initialExtent": {
"xmin": 1.0572228845372679E7,
"ymin": -1224845.162247455,
"xmax": 1.5698328845372679E7,
"ymax": 673254.837752545,
"spatialReference": {
"wkid": 3395,
"latestWkid": 3395
}
},
"fullExtent": {
"xmin": 1.0572228845372679E7,
"ymin": -1224845.162247455,
"xmax": 1.5698328845372679E7,
"ymax": 673254.837752545,
"spatialReference": {
"wkid": 3395,
"latestWkid": 3395
}
},
"sortableFields": "",
"bandCount": 1,
"pixelType": "F32",
"minValues": [
0
],
"maxValues": [
1976.36376953125
],
"meanValues": [
1.4088652486401898
],
"stdvValues": [
7.112380152929582
],
"hasMultidimensions": false,
"pixelSizeX": 100,
"pixelSizeY": 100,
"meanPixelSize": 100,
"datasetFormat": "FGDBR",
"uncompressedSize": 3891940164,
"blockWidth": 128,
"blockHeight": 128,
"compressionType": "NONE",
"bandNames": [
"Band_1"
],
"allowCopy": true,
"allowAnalysis": true,
"itemAccess": false,
"inspectionCapabilities": "",
"minPixelSize": 0,
"maxPixelSize": 0,
"copyrightText": "",
"serviceDataType": "esriImageServiceDataTypeGeneric",
"serviceSourceType": "esriImageServiceSourceTypeDataset",
"objectIdField": "",
"fields": [],
"capabilities": "Image,Metadata,Mensuration",
"defaultMosaicMethod": "Center",
"allowedMosaicMethods": "",
"sortField": "",
"sortValue": null,
"sortAscending": true,
"mosaicOperator": "First",
"defaultCompressionQuality": 75,
"defaultResamplingMethod": "Bilinear",
"maxImageHeight": 4100,
"maxImageWidth": 15000,
"allowRasterFunction": true,
"rasterFunctionInfos": [
{
"name": "None",
"description": "",
"help": ""
}
],
"rasterTypeInfos": [
{
"name": "Raster Dataset",
"description": "Supports all ArcGIS Raster Datasets",
"help": ""
}
],
"mensurationCapabilities": "Basic",
"hasHistograms": true,
"hasColormap": false,
"hasRasterAttributeTable": false,
"minScale": 0,
"maxScale": 0,
"exportTilesAllowed": false,
"supportsStatistics": false,
"supportsAdvancedQueries": false,
"editFieldsInfo": null,
"ownershipBasedAccessControlForRasters": null,
"allowComputeTiePoints": false,
"useStandardizedQueries": true,
"advancedQueryCapabilities": {
"useStandardizedQueries": true,
"supportsStatistics": false,
"supportsOrderBy": false,
"supportsDistinct": false,
"supportsPagination": false
},
"spatialReference": {
"wkid": 3395,
"latestWkid": 3395
}
}