{
 "currentVersion": 11.4,
 "serviceDescription": "inarisk/LAYER_INDEKS_SE",
 "name": "inarisk/LAYER_INDEKS_SE",
 "description": "",
 "extent": {
  "xmin": 1.1699664426172283E7,
  "ymin": -974740.1320339516,
  "xmax": 1.2943664426172283E7,
  "ymax": -557740.1320339516,
  "spatialReference": {
   "wkid": 3395,
   "latestWkid": 3395
  }
 },
 "initialExtent": {
  "xmin": 1.1699664426172283E7,
  "ymin": -974740.1320339516,
  "xmax": 1.2943664426172283E7,
  "ymax": -557740.1320339516,
  "spatialReference": {
   "wkid": 3395,
   "latestWkid": 3395
  }
 },
 "fullExtent": {
  "xmin": 1.1699664426172283E7,
  "ymin": -974740.1320339516,
  "xmax": 1.2943664426172283E7,
  "ymax": -557740.1320339516,
  "spatialReference": {
   "wkid": 3395,
   "latestWkid": 3395
  }
 },
 "sortableFields": "",
 "bandCount": 1,
 "pixelType": "F32",
 "minValues": [
  0
 ],
 "maxValues": [
  0.7472293376922607
 ],
 "meanValues": [
  0.3832406440384429
 ],
 "stdvValues": [
  0.2030189186863368
 ],
 "hasMultidimensions": false,
 "pixelSizeX": 1000,
 "pixelSizeY": 1000,
 "meanPixelSize": 1000,
 "datasetFormat": "FGDBR",
 "uncompressedSize": 2074992,
 "blockWidth": 128,
 "blockHeight": 128,
 "compressionType": "NONE",
 "bandNames": [
  "Band_1"
 ],
 "allowCopy": true,
 "allowAnalysis": true,
 "itemAccess": false,
 "inspectionCapabilities": "",
 "minPixelSize": 0,
 "maxPixelSize": 0,
 "copyrightText": "",
 "serviceDataType": "esriImageServiceDataTypeGeneric",
 "serviceSourceType": "esriImageServiceSourceTypeDataset",
 "objectIdField": "",
 "fields": [],
 "capabilities": "Mensuration,Image,Metadata",
 "defaultMosaicMethod": "Center",
 "allowedMosaicMethods": "",
 "sortField": "",
 "sortValue": null,
 "sortAscending": true,
 "mosaicOperator": "First",
 "defaultCompressionQuality": 75,
 "defaultResamplingMethod": "Bilinear",
 "maxImageHeight": 4100,
 "maxImageWidth": 15000,
 "allowRasterFunction": true,
 "rasterFunctionInfos": [
  {
   "name": "LAYER_INDEKS_SE",
   "description": "LAYER_INDEKS_SE",
   "help": ""
  },
  {
   "name": "layer indeks bahaya banjir",
   "description": "layer indeks bahaya banjir",
   "help": ""
  },
  {
   "name": "global_tsunami_modelling",
   "description": "global tsunami modelling",
   "help": ""
  },
  {
   "name": "index_bahaya_banjir",
   "description": "index_bahaya_banjir",
   "help": ""
  },
  {
   "name": "layer_bahaya_covid19",
   "description": "layer_bahaya_covid19",
   "help": ""
  },
  {
   "name": "layer_bahaya_cuaca_ekstrim",
   "description": "layer_bahaya_cuaca_ekstrim",
   "help": ""
  },
  {
   "name": "layer_bahaya_gelombang_ekstrim_dan_abrasi",
   "description": "layer_bahaya_gelombang_ekstrim_dan_abrasi",
   "help": ""
  },
  {
   "name": "layer_bahaya_gempabumi",
   "description": "layer_bahaya_gempabumi",
   "help": ""
  },
  {
   "name": "layer_bahaya_gempabumi_klasifikasi_PVMBG",
   "description": "layer_bahaya_gempabumi_klasifikasi_PVMBG",
   "help": ""
  },
  {
   "name": "layer_bahaya_kekeringan",
   "description": "layer_bahaya_kekeringan",
   "help": ""
  },
  {
   "name": "layer_bahaya_letusan_gunungapi",
   "description": "layer_bahaya_letusan_gunungapi",
   "help": ""
  },
  {
   "name": "layer_bahaya_multi",
   "description": "layer_bahaya_multi",
   "help": ""
  },
  {
   "name": "LAYER_INDEKS_KA",
   "description": "LAYER_INDEKS_KA",
   "help": ""
  },
  {
   "name": "None",
   "description": "",
   "help": ""
  }
 ],
 "rasterTypeInfos": [
  {
   "name": "Raster Dataset",
   "description": "Supports all ArcGIS Raster Datasets",
   "help": ""
  }
 ],
 "mensurationCapabilities": "Basic",
 "hasHistograms": true,
 "hasColormap": false,
 "hasRasterAttributeTable": false,
 "minScale": 0,
 "maxScale": 0,
 "exportTilesAllowed": false,
 "supportsStatistics": false,
 "supportsAdvancedQueries": false,
 "editFieldsInfo": null,
 "ownershipBasedAccessControlForRasters": null,
 "allowComputeTiePoints": false,
 "useStandardizedQueries": true,
 "advancedQueryCapabilities": {
  "useStandardizedQueries": true,
  "supportsStatistics": false,
  "supportsOrderBy": false,
  "supportsDistinct": false,
  "supportsPagination": false
 },
 "spatialReference": {
  "wkid": 3395,
  "latestWkid": 3395
 },
 "resampling": false
}
