{
 "currentVersion": 11.4,
 "serviceDescription": "inarisk/global_tsunami_modelling",
 "name": "inarisk/global_tsunami_modelling",
 "description": "",
 "extent": {
  "xmin": 55,
  "ymin": -25,
  "xmax": 160.00000210000002,
  "ymax": 50.000001499999996,
  "spatialReference": {
   "wkid": 4326,
   "latestWkid": 4326
  }
 },
 "initialExtent": {
  "xmin": 55,
  "ymin": -25,
  "xmax": 160.00000210000002,
  "ymax": 50.000001499999996,
  "spatialReference": {
   "wkid": 4326,
   "latestWkid": 4326
  }
 },
 "fullExtent": {
  "xmin": 55,
  "ymin": -25,
  "xmax": 160.00000210000002,
  "ymax": 50.000001499999996,
  "spatialReference": {
   "wkid": 4326,
   "latestWkid": 4326
  }
 },
 "sortableFields": "",
 "bandCount": 1,
 "pixelType": "F32",
 "minValues": [
  -10
 ],
 "maxValues": [
  46.97999954223633
 ],
 "meanValues": [
  -3.3513065385209777
 ],
 "stdvValues": [
  4.989502077309449
 ],
 "hasMultidimensions": false,
 "pixelSizeX": 0.016666667000000003,
 "pixelSizeY": 0.016666667,
 "meanPixelSize": 1855.3248836610567,
 "datasetFormat": "FGDBR",
 "uncompressedSize": 113400000,
 "blockWidth": 128,
 "blockHeight": 128,
 "compressionType": "NONE",
 "bandNames": [
  "Band_1"
 ],
 "allowCopy": true,
 "allowAnalysis": true,
 "itemAccess": false,
 "inspectionCapabilities": "",
 "minPixelSize": 0,
 "maxPixelSize": 0,
 "copyrightText": "",
 "serviceDataType": "esriImageServiceDataTypeGeneric",
 "serviceSourceType": "esriImageServiceSourceTypeDataset",
 "objectIdField": "",
 "fields": [],
 "capabilities": "Mensuration,Image,Metadata",
 "defaultMosaicMethod": "Center",
 "allowedMosaicMethods": "",
 "sortField": "",
 "sortValue": null,
 "sortAscending": true,
 "mosaicOperator": "First",
 "defaultCompressionQuality": 75,
 "defaultResamplingMethod": "Bilinear",
 "maxImageHeight": 4100,
 "maxImageWidth": 15000,
 "allowRasterFunction": false,
 "rasterFunctionInfos": [
  {
   "name": "global_tsunami_modelling",
   "description": "global tsunami modelling",
   "help": ""
  },
  {
   "name": "layer indeks bahaya banjir",
   "description": "layer indeks bahaya banjir",
   "help": ""
  },
  {
   "name": "None",
   "description": "",
   "help": ""
  }
 ],
 "rasterTypeInfos": [
  {
   "name": "Raster Dataset",
   "description": "Supports all ArcGIS Raster Datasets",
   "help": ""
  }
 ],
 "mensurationCapabilities": "Basic",
 "hasHistograms": true,
 "hasColormap": false,
 "hasRasterAttributeTable": false,
 "minScale": 0,
 "maxScale": 0,
 "exportTilesAllowed": false,
 "supportsStatistics": false,
 "supportsAdvancedQueries": false,
 "editFieldsInfo": null,
 "ownershipBasedAccessControlForRasters": null,
 "allowComputeTiePoints": false,
 "useStandardizedQueries": true,
 "advancedQueryCapabilities": {
  "useStandardizedQueries": true,
  "supportsStatistics": false,
  "supportsOrderBy": false,
  "supportsDistinct": false,
  "supportsPagination": false
 },
 "spatialReference": {
  "wkid": 4326,
  "latestWkid": 4326
 },
 "resampling": false
}
