{
 "currentVersion": 11.4,
 "serviceDescription": "inarisk/layer_kerentanan_gempabumi_jkt",
 "name": "inarisk/layer_kerentanan_gempabumi_jkt",
 "description": "",
 "extent": {
  "xmin": 686771.6716414401,
  "ymin": 9295616.965106478,
  "xmax": 718141.6716414401,
  "ymax": 9326491.965106478,
  "spatialReference": {
   "wkid": 32748,
   "latestWkid": 32748
  }
 },
 "initialExtent": {
  "xmin": 686771.6716414401,
  "ymin": 9295616.965106478,
  "xmax": 718141.6716414401,
  "ymax": 9326491.965106478,
  "spatialReference": {
   "wkid": 32748,
   "latestWkid": 32748
  }
 },
 "fullExtent": {
  "xmin": 686771.6716414401,
  "ymin": 9295616.965106478,
  "xmax": 718141.6716414401,
  "ymax": 9326491.965106478,
  "spatialReference": {
   "wkid": 32748,
   "latestWkid": 32748
  }
 },
 "sortableFields": "",
 "bandCount": 1,
 "pixelType": "F64",
 "minValues": [
  0
 ],
 "maxValues": [
  1
 ],
 "meanValues": [
  0.9941802617439646
 ],
 "stdvValues": [
  0.057501239039726454
 ],
 "hasMultidimensions": false,
 "pixelSizeX": 5,
 "pixelSizeY": 5,
 "meanPixelSize": 5,
 "datasetFormat": "FGDBR",
 "uncompressedSize": 309935600,
 "blockWidth": 128,
 "blockHeight": 128,
 "compressionType": "NONE",
 "bandNames": [
  "Band_1"
 ],
 "allowCopy": true,
 "allowAnalysis": true,
 "itemAccess": false,
 "inspectionCapabilities": "",
 "minPixelSize": 0,
 "maxPixelSize": 0,
 "copyrightText": "",
 "serviceDataType": "esriImageServiceDataTypeGeneric",
 "serviceSourceType": "esriImageServiceSourceTypeDataset",
 "objectIdField": "",
 "fields": [],
 "capabilities": "Image,Metadata,Mensuration",
 "defaultMosaicMethod": "Center",
 "allowedMosaicMethods": "",
 "sortField": "",
 "sortValue": null,
 "sortAscending": true,
 "mosaicOperator": "First",
 "defaultCompressionQuality": 75,
 "defaultResamplingMethod": "Bilinear",
 "maxImageHeight": 4100,
 "maxImageWidth": 15000,
 "allowRasterFunction": true,
 "rasterFunctionInfos": [
  {
   "name": "kerentanan_gempabumi_jakarta",
   "description": "kerentanan_gempabumi_jakarta",
   "help": ""
  },
  {
   "name": "None",
   "description": "",
   "help": ""
  }
 ],
 "rasterTypeInfos": [
  {
   "name": "Raster Dataset",
   "description": "Supports all ArcGIS Raster Datasets",
   "help": ""
  }
 ],
 "mensurationCapabilities": "Basic",
 "hasHistograms": true,
 "hasColormap": false,
 "hasRasterAttributeTable": false,
 "minScale": 0,
 "maxScale": 0,
 "exportTilesAllowed": false,
 "supportsStatistics": false,
 "supportsAdvancedQueries": false,
 "editFieldsInfo": null,
 "ownershipBasedAccessControlForRasters": null,
 "allowComputeTiePoints": false,
 "useStandardizedQueries": true,
 "advancedQueryCapabilities": {
  "useStandardizedQueries": true,
  "supportsStatistics": false,
  "supportsOrderBy": false,
  "supportsDistinct": false,
  "supportsPagination": false
 },
 "spatialReference": {
  "wkid": 32748,
  "latestWkid": 32748
 }
}
