{
 "currentVersion": 11.4,
 "serviceDescription": "thematic/Ina_pop_NTT",
 "name": "thematic/Ina_pop_NTT",
 "description": "",
 "extent": {
  "xmin": 1.3196228845372679E7,
  "ymin": -1224845.162247455,
  "xmax": 1.3996028845372679E7,
  "ymax": -831945.162247455,
  "spatialReference": {
   "wkid": 3395,
   "latestWkid": 3395
  }
 },
 "initialExtent": {
  "xmin": 1.3196228845372679E7,
  "ymin": -1224845.162247455,
  "xmax": 1.3996028845372679E7,
  "ymax": -831945.162247455,
  "spatialReference": {
   "wkid": 3395,
   "latestWkid": 3395
  }
 },
 "fullExtent": {
  "xmin": 1.3196228845372679E7,
  "ymin": -1224845.162247455,
  "xmax": 1.3996028845372679E7,
  "ymax": -831945.162247455,
  "spatialReference": {
   "wkid": 3395,
   "latestWkid": 3395
  }
 },
 "sortableFields": "",
 "bandCount": 1,
 "pixelType": "F32",
 "minValues": [
  0
 ],
 "maxValues": [
  157.9687957763672
 ],
 "meanValues": [
  1.1926648813413618
 ],
 "stdvValues": [
  3.559555964463373
 ],
 "hasMultidimensions": false,
 "pixelSizeX": 100,
 "pixelSizeY": 100,
 "meanPixelSize": 100,
 "datasetFormat": "FGDBR",
 "uncompressedSize": 125696568,
 "blockWidth": 128,
 "blockHeight": 128,
 "compressionType": "NONE",
 "bandNames": [
  "Band_1"
 ],
 "allowCopy": true,
 "allowAnalysis": true,
 "itemAccess": false,
 "inspectionCapabilities": "",
 "minPixelSize": 0,
 "maxPixelSize": 0,
 "copyrightText": "",
 "serviceDataType": "esriImageServiceDataTypeGeneric",
 "serviceSourceType": "esriImageServiceSourceTypeDataset",
 "objectIdField": "",
 "fields": [],
 "capabilities": "Image,Metadata,Mensuration",
 "defaultMosaicMethod": "Center",
 "allowedMosaicMethods": "",
 "sortField": "",
 "sortValue": null,
 "sortAscending": true,
 "mosaicOperator": "First",
 "defaultCompressionQuality": 75,
 "defaultResamplingMethod": "Bilinear",
 "maxImageHeight": 4100,
 "maxImageWidth": 15000,
 "allowRasterFunction": true,
 "rasterFunctionInfos": [
  {
   "name": "None",
   "description": "",
   "help": ""
  }
 ],
 "rasterTypeInfos": [
  {
   "name": "Raster Dataset",
   "description": "Supports all ArcGIS Raster Datasets",
   "help": ""
  }
 ],
 "mensurationCapabilities": "Basic",
 "hasHistograms": true,
 "hasColormap": false,
 "hasRasterAttributeTable": false,
 "minScale": 0,
 "maxScale": 0,
 "exportTilesAllowed": false,
 "supportsStatistics": false,
 "supportsAdvancedQueries": false,
 "editFieldsInfo": null,
 "ownershipBasedAccessControlForRasters": null,
 "allowComputeTiePoints": false,
 "useStandardizedQueries": true,
 "advancedQueryCapabilities": {
  "useStandardizedQueries": true,
  "supportsStatistics": false,
  "supportsOrderBy": false,
  "supportsDistinct": false,
  "supportsPagination": false
 },
 "spatialReference": {
  "wkid": 3395,
  "latestWkid": 3395
 }
}
