{
 "currentVersion": 11.4,
 "serviceDescription": "thematic/Index_gar17eqpga1500",
 "name": "thematic/Index_gar17eqpga1500",
 "description": "",
 "extent": {
  "xmin": -179.99999999999991,
  "ymin": -55.11694335937476,
  "xmax": 180.0000000021191,
  "ymax": 53.552790588054236,
  "spatialReference": {
   "wkid": 4326,
   "latestWkid": 4326
  }
 },
 "initialExtent": {
  "xmin": -179.99999999999991,
  "ymin": -55.11694335937476,
  "xmax": 180.0000000021191,
  "ymax": 53.552790588054236,
  "spatialReference": {
   "wkid": 4326,
   "latestWkid": 4326
  }
 },
 "fullExtent": {
  "xmin": -179.99999999999991,
  "ymin": -55.11694335937476,
  "xmax": 180.0000000021191,
  "ymax": 53.552790588054236,
  "spatialReference": {
   "wkid": 4326,
   "latestWkid": 4326
  }
 },
 "sortableFields": "",
 "bandCount": 1,
 "pixelType": "F64",
 "minValues": [
  7.921823079603519E-8
 ],
 "maxValues": [
  1
 ],
 "meanValues": [
  0.09885286353999106
 ],
 "stdvValues": [
  0.09478896361819236
 ],
 "hasMultidimensions": false,
 "pixelSizeX": 0.072014402881,
 "pixelSizeY": 0.072014402881,
 "meanPixelSize": 8016.606658494573,
 "datasetFormat": "FGDBR",
 "uncompressedSize": 60347928,
 "blockWidth": 128,
 "blockHeight": 128,
 "compressionType": "NONE",
 "bandNames": [
  "Band_1"
 ],
 "allowCopy": true,
 "allowAnalysis": true,
 "itemAccess": false,
 "inspectionCapabilities": "",
 "minPixelSize": 0,
 "maxPixelSize": 0,
 "copyrightText": "",
 "serviceDataType": "esriImageServiceDataTypeGeneric",
 "serviceSourceType": "esriImageServiceSourceTypeDataset",
 "objectIdField": "",
 "fields": [],
 "capabilities": "Image,Metadata,Mensuration",
 "defaultMosaicMethod": "Center",
 "allowedMosaicMethods": "",
 "sortField": "",
 "sortValue": null,
 "sortAscending": true,
 "mosaicOperator": "First",
 "defaultCompressionQuality": 75,
 "defaultResamplingMethod": "Bilinear",
 "maxImageHeight": 4100,
 "maxImageWidth": 15000,
 "allowRasterFunction": true,
 "rasterFunctionInfos": [
  {
   "name": "Index_gar17eqpga1500",
   "description": "Index_gar17eqpga1500",
   "help": ""
  },
  {
   "name": "None",
   "description": "",
   "help": ""
  }
 ],
 "rasterTypeInfos": [
  {
   "name": "Raster Dataset",
   "description": "Supports all ArcGIS Raster Datasets",
   "help": ""
  }
 ],
 "mensurationCapabilities": "Basic",
 "hasHistograms": true,
 "hasColormap": false,
 "hasRasterAttributeTable": false,
 "minScale": 0,
 "maxScale": 0,
 "exportTilesAllowed": false,
 "supportsStatistics": false,
 "supportsAdvancedQueries": false,
 "editFieldsInfo": null,
 "ownershipBasedAccessControlForRasters": null,
 "allowComputeTiePoints": false,
 "useStandardizedQueries": true,
 "advancedQueryCapabilities": {
  "useStandardizedQueries": true,
  "supportsStatistics": false,
  "supportsOrderBy": false,
  "supportsDistinct": false,
  "supportsPagination": false
 },
 "spatialReference": {
  "wkid": 4326,
  "latestWkid": 4326
 }
}
