{
 "currentVersion": 11.4,
 "serviceDescription": "thematic/Layer_bahaya_B3",
 "name": "thematic/Layer_bahaya_B3",
 "description": "",
 "extent": {
  "xmin": 1.1787879685023515E7,
  "ymin": -675311.3303706149,
  "xmax": 1.1817279685023515E7,
  "ymax": -650811.3303706149,
  "spatialReference": {
   "wkid": 3395,
   "latestWkid": 3395
  }
 },
 "initialExtent": {
  "xmin": 1.1787879685023515E7,
  "ymin": -675311.3303706149,
  "xmax": 1.1817279685023515E7,
  "ymax": -650811.3303706149,
  "spatialReference": {
   "wkid": 3395,
   "latestWkid": 3395
  }
 },
 "fullExtent": {
  "xmin": 1.1787879685023515E7,
  "ymin": -675311.3303706149,
  "xmax": 1.1817279685023515E7,
  "ymax": -650811.3303706149,
  "spatialReference": {
   "wkid": 3395,
   "latestWkid": 3395
  }
 },
 "sortableFields": "",
 "bandCount": 1,
 "pixelType": "U8",
 "minValues": [
  1
 ],
 "maxValues": [
  3
 ],
 "meanValues": [
  2.0928856791641057
 ],
 "stdvValues": [
  0.838045638857202
 ],
 "hasMultidimensions": false,
 "pixelSizeX": 100,
 "pixelSizeY": 100,
 "meanPixelSize": 100,
 "datasetFormat": "FGDBR",
 "uncompressedSize": 72030,
 "blockWidth": 128,
 "blockHeight": 128,
 "compressionType": "LZ77",
 "bandNames": [
  "Band_1"
 ],
 "allowCopy": true,
 "allowAnalysis": true,
 "itemAccess": false,
 "inspectionCapabilities": "",
 "minPixelSize": 0,
 "maxPixelSize": 0,
 "copyrightText": "",
 "serviceDataType": "esriImageServiceDataTypeGeneric",
 "serviceSourceType": "esriImageServiceSourceTypeDataset",
 "objectIdField": "",
 "fields": [],
 "capabilities": "Image,Metadata,Mensuration",
 "defaultMosaicMethod": "Center",
 "allowedMosaicMethods": "",
 "sortField": "",
 "sortValue": null,
 "sortAscending": true,
 "mosaicOperator": "First",
 "defaultCompressionQuality": 75,
 "defaultResamplingMethod": "Bilinear",
 "maxImageHeight": 4100,
 "maxImageWidth": 15000,
 "allowRasterFunction": true,
 "rasterFunctionInfos": [
  {
   "name": "None",
   "description": "",
   "help": ""
  }
 ],
 "rasterTypeInfos": [
  {
   "name": "Raster Dataset",
   "description": "Supports all ArcGIS Raster Datasets",
   "help": ""
  }
 ],
 "mensurationCapabilities": "Basic",
 "hasHistograms": true,
 "hasColormap": false,
 "hasRasterAttributeTable": true,
 "minScale": 0,
 "maxScale": 0,
 "exportTilesAllowed": false,
 "supportsStatistics": false,
 "supportsAdvancedQueries": false,
 "editFieldsInfo": null,
 "ownershipBasedAccessControlForRasters": null,
 "allowComputeTiePoints": false,
 "useStandardizedQueries": true,
 "advancedQueryCapabilities": {
  "useStandardizedQueries": true,
  "supportsStatistics": false,
  "supportsOrderBy": false,
  "supportsDistinct": false,
  "supportsPagination": false
 },
 "spatialReference": {
  "wkid": 3395,
  "latestWkid": 3395
 }
}
