{
 "currentVersion": 11.4,
 "serviceDescription": "thematic/ShadedRelief1_TOPO_Ambbon",
 "name": "thematic/ShadedRelief1_TOPO_Ambbon",
 "description": "",
 "extent": {
  "xmin": 406500,
  "ymin": 9589500,
  "xmax": 417100,
  "ymax": 9599500,
  "spatialReference": {
   "wkid": 32752,
   "latestWkid": 32752
  }
 },
 "initialExtent": {
  "xmin": 406500,
  "ymin": 9589500,
  "xmax": 417100,
  "ymax": 9599500,
  "spatialReference": {
   "wkid": 32752,
   "latestWkid": 32752
  }
 },
 "fullExtent": {
  "xmin": 406500,
  "ymin": 9589500,
  "xmax": 417100,
  "ymax": 9599500,
  "spatialReference": {
   "wkid": 32752,
   "latestWkid": 32752
  }
 },
 "sortableFields": "",
 "bandCount": 3,
 "pixelType": "U8",
 "minValues": [
  0,
  0,
  0
 ],
 "maxValues": [
  255,
  255,
  243
 ],
 "meanValues": [
  142.05202653078007,
  131.55471784343362,
  42.976433232098955
 ],
 "stdvValues": [
  59.35792132768092,
  60.476053435454475,
  42.78342398418441
 ],
 "hasMultidimensions": false,
 "pixelSizeX": 5,
 "pixelSizeY": 5,
 "meanPixelSize": 5,
 "datasetFormat": "FGDBR",
 "uncompressedSize": 12720000,
 "blockWidth": 128,
 "blockHeight": 128,
 "compressionType": "NONE",
 "bandNames": [
  "Band_1",
  "Band_2",
  "Band_3"
 ],
 "allowCopy": true,
 "allowAnalysis": true,
 "itemAccess": false,
 "inspectionCapabilities": "",
 "minPixelSize": 0,
 "maxPixelSize": 0,
 "copyrightText": "",
 "serviceDataType": "esriImageServiceDataTypeRGB",
 "serviceSourceType": "esriImageServiceSourceTypeDataset",
 "objectIdField": "",
 "fields": [],
 "capabilities": "Image,Metadata,Mensuration",
 "defaultMosaicMethod": "Center",
 "allowedMosaicMethods": "",
 "sortField": "",
 "sortValue": null,
 "sortAscending": true,
 "mosaicOperator": "First",
 "defaultCompressionQuality": 75,
 "defaultResamplingMethod": "Bilinear",
 "maxImageHeight": 4100,
 "maxImageWidth": 15000,
 "allowRasterFunction": true,
 "rasterFunctionInfos": [
  {
   "name": "None",
   "description": "",
   "help": ""
  }
 ],
 "rasterTypeInfos": [
  {
   "name": "Raster Dataset",
   "description": "Supports all ArcGIS Raster Datasets",
   "help": ""
  }
 ],
 "mensurationCapabilities": "Basic",
 "hasHistograms": true,
 "hasColormap": false,
 "hasRasterAttributeTable": false,
 "minScale": 0,
 "maxScale": 0,
 "exportTilesAllowed": false,
 "supportsStatistics": false,
 "supportsAdvancedQueries": false,
 "editFieldsInfo": null,
 "ownershipBasedAccessControlForRasters": null,
 "allowComputeTiePoints": false,
 "useStandardizedQueries": true,
 "advancedQueryCapabilities": {
  "useStandardizedQueries": true,
  "supportsStatistics": false,
  "supportsOrderBy": false,
  "supportsDistinct": false,
  "supportsPagination": false
 },
 "spatialReference": {
  "wkid": 32752,
  "latestWkid": 32752
 }
}
