{
 "currentVersion": 11.4,
 "serviceDescription": "thematic/planetscope_april_2024",
 "name": "thematic/planetscope_april_2024",
 "description": "",
 "extent": {
  "xmin": 138622.1234,
  "ymin": 9594231.529,
  "xmax": 218137.9659,
  "ymax": 9657213.1249,
  "spatialReference": {
   "wkid": 32751,
   "latestWkid": 32751
  }
 },
 "initialExtent": {
  "xmin": 138622.1234,
  "ymin": 9594231.529,
  "xmax": 218137.9659,
  "ymax": 9657213.1249,
  "spatialReference": {
   "wkid": 32751,
   "latestWkid": 32751
  }
 },
 "fullExtent": {
  "xmin": 138622.1234,
  "ymin": 9594231.529,
  "xmax": 218137.9659,
  "ymax": 9657213.1249,
  "spatialReference": {
   "wkid": 32751,
   "latestWkid": 32751
  }
 },
 "sortableFields": "",
 "bandCount": 4,
 "pixelType": "U8",
 "minValues": [],
 "maxValues": [],
 "meanValues": [],
 "stdvValues": [],
 "hasMultidimensions": false,
 "pixelSizeX": 4.769996550689862,
 "pixelSizeY": 4.769887602241821,
 "meanPixelSize": 4.769942076465841,
 "datasetFormat": "TIFF",
 "uncompressedSize": 880442720,
 "blockWidth": 16670,
 "blockHeight": 1,
 "compressionType": "None",
 "bandNames": [
  "Band_1",
  "Band_2",
  "Band_3",
  "Band_4"
 ],
 "allowCopy": true,
 "allowAnalysis": true,
 "itemAccess": false,
 "inspectionCapabilities": "",
 "minPixelSize": 0,
 "maxPixelSize": 0,
 "copyrightText": "",
 "serviceDataType": "esriImageServiceDataTypeGeneric",
 "serviceSourceType": "esriImageServiceSourceTypeDataset",
 "objectIdField": "",
 "fields": [],
 "capabilities": "Image,Metadata,Mensuration",
 "defaultMosaicMethod": "Center",
 "allowedMosaicMethods": "",
 "sortField": "",
 "sortValue": null,
 "sortAscending": true,
 "mosaicOperator": "First",
 "defaultCompressionQuality": 75,
 "defaultResamplingMethod": "Bilinear",
 "maxImageHeight": 4100,
 "maxImageWidth": 15000,
 "allowRasterFunction": true,
 "rasterFunctionInfos": [
  {
   "name": "None",
   "description": "",
   "help": ""
  }
 ],
 "rasterTypeInfos": [
  {
   "name": "Raster Dataset",
   "description": "Supports all ArcGIS Raster Datasets",
   "help": ""
  }
 ],
 "mensurationCapabilities": "Basic",
 "hasHistograms": false,
 "hasColormap": false,
 "hasRasterAttributeTable": false,
 "minScale": 0,
 "maxScale": 0,
 "exportTilesAllowed": false,
 "supportsStatistics": false,
 "supportsAdvancedQueries": false,
 "editFieldsInfo": null,
 "ownershipBasedAccessControlForRasters": null,
 "allowComputeTiePoints": false,
 "useStandardizedQueries": true,
 "advancedQueryCapabilities": {
  "useStandardizedQueries": true,
  "supportsStatistics": false,
  "supportsOrderBy": false,
  "supportsDistinct": false,
  "supportsPagination": false
 },
 "spatialReference": {
  "wkid": 32751,
  "latestWkid": 32751
 }
}
