View In:
ArcGIS JavaScript
ArcGIS Online Map Viewer
ArcGIS Earth
ArcMap
View Footprint In:
ArcGIS Online Map Viewer
Service Description: inarisk/INARISKPOP30_2021
Name: inarisk/INARISKPOP30_2021
Description:
Single Fused Map Cache: false
Extent:
XMin: 1.1699647962665023E7
YMin: -974747.3921778956
XMax: 1.2943147962665023E7
YMax: -558347.3921778956
Spatial Reference: 3395
(3395)
Initial Extent:
XMin: 1.1699647962665023E7
YMin: -974747.3921778956
XMax: 1.2943147962665023E7
YMax: -558347.3921778956
Spatial Reference: 3395
(3395)
Full Extent:
XMin: 1.1699647962665023E7
YMin: -974747.3921778956
XMax: 1.2943147962665023E7
YMax: -558347.3921778956
Spatial Reference: 3395
(3395)
Pixel Size X: 30.0
Pixel Size Y: 30.0
Band Count: 1
Pixel Type: F32
RasterFunction Infos: {"rasterFunctionInfos": [{
"name": "None",
"description": "",
"help": ""
}]}
Mensuration Capabilities: Basic
Has Histograms: true
Has Colormap: false
Has Multi Dimensions : false
Rendering Rule:
Min Scale: 0
Max Scale: 0
Copyright Text:
Service Data Type: esriImageServiceDataTypeGeneric
Min Values: 0.7648648023605347
Max Values: 95.32432556152344
Mean Values: 5.910421980733772
Standard Deviation Values: 4.195003846426476
Object ID Field:
Fields:
None
Default Mosaic Method: Center
Allowed Mosaic Methods:
SortField:
SortValue: null
Mosaic Operator: First
Default Compression Quality: 75
Default Resampling Method: Bilinear
Max Record Count: null
Max Image Height: 4100
Max Image Width: 15000
Max Download Image Count: null
Max Mosaic Image Count: null
Allow Raster Function: true
Allow Copy: null
Allow Analysis: null
Allow Compute TiePoints: false
Supports Statistics: false
Supports Advanced Queries: false
Use StandardizedQueries: true
Raster Type Infos:
Name: Raster Dataset
Description: Supports all ArcGIS Raster Datasets
Help:
Has Raster Attribute Table: false
Edit Fields Info: null
Ownership Based AccessControl For Rasters: null
Child Resources:
Info
Histograms
Key Properties
Legend
Raster Function Infos
Supported Operations:
Export Image
Identify
Measure
Compute Histograms
Compute Statistics Histograms
Get Samples
Compute Class Statistics
Query Boundary
Compute Pixel Location
Compute Angles
Validate
Project