View In:
ArcGIS JavaScript
ArcGIS Online Map Viewer
ArcGIS Earth
ArcMap
View Footprint In:
ArcGIS Online Map Viewer
Service Description: Population distribution as one of the parameters of disaster vulnerability is needed in a disaster risk assessment. Analysis of approaches to determine the spatial population distribution can use many methodological alternatives. The general approach used in Indonesia is distribution approach based on results of a survey or census, where the number of population density is distributed evenly within the administrative borders. Another approach used by Worldpop using Random Regression Tree model-based Forest Mapping. Both of these methodologies have their respective advantages and disadvantages. This study was conducted by combining these two methods and adding some data and parameters as driving factors on the scale of analysis of spatial resolution (grid size) 0.000833333 decimal degrees (approximately 100 m in equatorial region) for case study in Banten Province. Data processing is performed by raster analysis approach and using GIS. The results obtained for the better with the cost requirements are also more affordable and can be utilized to calculate the level of disaster risk in an area.
Name: inarisk/INARISKPOP_2020
Description: Population distribution as one of the parameters of disaster vulnerability is needed in a disaster risk assessment. Analysis of approaches to determine the spatial population distribution can use many methodological alternatives. The general approach used in Indonesia is distribution approach based on results of a survey or census, where the number of population density is distributed evenly within the administrative borders. Another approach used by Worldpop using Random Regression Tree model-based Forest Mapping. Both of these methodologies have their respective advantages and disadvantages. This study was conducted by combining these two methods and adding some data and parameters as driving factors on the scale of analysis of spatial resolution (grid size) 0.000833333 decimal degrees (approximately 100 m in equatorial region) for case study in Banten Province. Data processing is performed by raster analysis approach and using GIS. The results obtained for the better with the cost requirements are also more affordable and can be utilized to calculate the level of disaster risk in an area.
Single Fused Map Cache: false
Extent:
XMin: 1.0572228845372679E7
YMin: -1224845.162247455
XMax: 1.5698328845372679E7
YMax: 673254.837752545
Spatial Reference: 3395
(3395)
Initial Extent:
XMin: 1.0572228845372679E7
YMin: -1224845.162247455
XMax: 1.5698328845372679E7
YMax: 673254.837752545
Spatial Reference: 3395
(3395)
Full Extent:
XMin: 1.0572228845372679E7
YMin: -1224845.162247455
XMax: 1.5698328845372679E7
YMax: 673254.837752545
Spatial Reference: 3395
(3395)
Pixel Size X: 100.0
Pixel Size Y: 100.0
Band Count: 1
Pixel Type: F32
RasterFunction Infos: {"rasterFunctionInfos": [{
"name": "None",
"description": "",
"help": ""
}]}
Mensuration Capabilities: Basic
Has Histograms: true
Has Colormap: false
Has Multi Dimensions : false
Rendering Rule:
Min Scale: 0
Max Scale: 0
Copyright Text:
Service Data Type: esriImageServiceDataTypeGeneric
Min Values: 0
Max Values: 1976.36376953125
Mean Values: 1.4088652486401898
Standard Deviation Values: 7.112380152929582
Object ID Field:
Fields:
None
Default Mosaic Method: Center
Allowed Mosaic Methods:
SortField:
SortValue: null
Mosaic Operator: First
Default Compression Quality: 75
Default Resampling Method: Bilinear
Max Record Count: null
Max Image Height: 4100
Max Image Width: 15000
Max Download Image Count: null
Max Mosaic Image Count: null
Allow Raster Function: true
Allow Copy: null
Allow Analysis: null
Allow Compute TiePoints: false
Supports Statistics: false
Supports Advanced Queries: false
Use StandardizedQueries: true
Raster Type Infos:
Name: Raster Dataset
Description: Supports all ArcGIS Raster Datasets
Help:
Has Raster Attribute Table: false
Edit Fields Info: null
Ownership Based AccessControl For Rasters: null
Child Resources:
Info
Histograms
Key Properties
Legend
Raster Function Infos
Supported Operations:
Export Image
Identify
Measure
Compute Histograms
Compute Statistics Histograms
Get Samples
Compute Class Statistics
Query Boundary
Compute Pixel Location
Compute Angles
Validate
Project