View In:
ArcGIS JavaScript
ArcGIS Online Map Viewer
ArcGIS Earth
Service Description: IKN/Indeks_kapasitas_Banjir
Name: IKN/Indeks_kapasitas_Banjir
Description:
Single Fused Map Cache: false
Extent:
XMin: 455561.5834999997
YMin: 9883251.339
XMax: 486519.0834999997
YMax: 9921833.839
Spatial Reference: 32750
(32750)
LatestVCSWkid(0)
Initial Extent:
XMin: 455561.5834999997
YMin: 9883251.339
XMax: 486519.0834999997
YMax: 9921833.839
Spatial Reference: 32750
(32750)
LatestVCSWkid(0)
Full Extent:
XMin: 455561.5834999997
YMin: 9883251.339
XMax: 486519.0834999997
YMax: 9921833.839
Spatial Reference: 32750
(32750)
LatestVCSWkid(0)
Pixel Size X: 2.5
Pixel Size Y: 2.5
Band Count: 1
Pixel Type: F64
RasterFunction Infos: {"rasterFunctionInfos": [
{
"name": "ikn_Indeks_kapasitas_Banjir",
"description": "ikn_Indeks_kapasitas_Banjir",
"help": ""
},
{
"name": "None",
"description": "",
"help": ""
}
]}
Mensuration Capabilities: Basic
Inspection Capabilities:
Has Histograms: true
Has Colormap: false
Has Multi Dimensions : false
Rendering Rule:
Min Scale: 0
Max Scale: 0
Copyright Text:
Service Data Type: esriImageServiceDataTypeGeneric
Min Values: 0.1
Max Values: 0.628
Mean Values: 0.3394710947733695
Standard Deviation Values: 0.1541143687127591
Object ID Field:
Fields:
None
Default Mosaic Method: Center
Allowed Mosaic Methods:
SortField:
SortValue: null
Mosaic Operator: First
Default Compression Quality: 75
Default Resampling Method: Bilinear
Max Record Count: null
Max Image Height: 4100
Max Image Width: 15000
Max Download Image Count: null
Max Mosaic Image Count: null
Allow Raster Function: true
Allow Copy: true
Allow Analysis: true
Allow Compute TiePoints: false
Supports Statistics: false
Supports Advanced Queries: false
Use StandardizedQueries: true
Raster Type Infos:
Name: Raster Dataset
Description: Supports all ArcGIS Raster Datasets
Help:
Has Raster Attribute Table: false
Edit Fields Info: null
Ownership Based AccessControl For Rasters: null
Child Resources:
Info
Histograms
Statistics
Key Properties
Legend
Raster Function Infos
Supported Operations:
Export Image
Identify
Measure
Compute Histograms
Compute Statistics Histograms
Get Samples
Compute Class Statistics
Query Boundary
Compute Pixel Location
Compute Angles
Validate
Project