View In:
ArcGIS JavaScript
ArcGIS Online Map Viewer
ArcGIS Earth
Service Description: inarisk/Batas_Desa
Name: inarisk/Batas_Desa
Description:
Single Fused Map Cache: false
Extent:
XMin: 1.05764321725E7
YMin: -1224817.0533000007
XMax: 1.56982321725E7
YMax: 673282.9466999993
Spatial Reference: 3395
(3395)
LatestVCSWkid(0)
Initial Extent:
XMin: 1.05764321725E7
YMin: -1224817.0533000007
XMax: 1.56982321725E7
YMax: 673282.9466999993
Spatial Reference: 3395
(3395)
LatestVCSWkid(0)
Full Extent:
XMin: 1.05764321725E7
YMin: -1224817.0533000007
XMax: 1.56982321725E7
YMax: 673282.9466999993
Spatial Reference: 3395
(3395)
LatestVCSWkid(0)
Pixel Size X: 100.0
Pixel Size Y: 100.0
Band Count: 1
Pixel Type: U32
RasterFunction Infos: {"rasterFunctionInfos": [{
"name": "None",
"description": "",
"help": ""
}]}
Mensuration Capabilities: Basic
Inspection Capabilities:
Has Histograms: true
Has Colormap: false
Has Multi Dimensions : false
Rendering Rule:
Min Scale: 0
Max Scale: 0
Copyright Text:
Service Data Type: esriImageServiceDataTypeGeneric
Min Values: 1
Max Values: 79803
Mean Values: 51490.982114376384
Standard Deviation Values: 23976.475123873734
Object ID Field:
Fields:
None
Default Mosaic Method: Center
Allowed Mosaic Methods:
SortField:
SortValue: null
Mosaic Operator: First
Default Compression Quality: 75
Default Resampling Method: Bilinear
Max Record Count: null
Max Image Height: 4100
Max Image Width: 15000
Max Download Image Count: null
Max Mosaic Image Count: null
Allow Raster Function: true
Allow Copy: true
Allow Analysis: true
Allow Compute TiePoints: false
Supports Statistics: false
Supports Advanced Queries: false
Use StandardizedQueries: true
Raster Type Infos:
Name: Raster Dataset
Description: Supports all ArcGIS Raster Datasets
Help:
Has Raster Attribute Table: false
Edit Fields Info: null
Ownership Based AccessControl For Rasters: null
Child Resources:
Info
Histograms
Statistics
Key Properties
Legend
Raster Function Infos
Supported Operations:
Export Image
Identify
Measure
Compute Histograms
Compute Statistics Histograms
Get Samples
Compute Class Statistics
Query Boundary
Compute Pixel Location
Compute Angles
Validate
Project