View In:
ArcGIS JavaScript
ArcGIS Online Map Viewer
ArcGIS Earth
Service Description: inarisk/layer_bahaya_kebakaran_hutan_dan_lahan
Name: inarisk/layer_bahaya_kebakaran_hutan_dan_lahan
Description:
Single Fused Map Cache: false
Extent:
XMin: 1.0576836164320603E7
YMin: -1224795.1089675426
XMax: 1.5696036164320603E7
YMax: 654304.8910324574
Spatial Reference: 3395
(3395)
LatestVCSWkid(0)
Initial Extent:
XMin: 1.0576836164320603E7
YMin: -1224795.1089675426
XMax: 1.5696036164320603E7
YMax: 654304.8910324574
Spatial Reference: 3395
(3395)
LatestVCSWkid(0)
Full Extent:
XMin: 1.0576836164320603E7
YMin: -1224795.1089675426
XMax: 1.5696036164320603E7
YMax: 654304.8910324574
Spatial Reference: 3395
(3395)
LatestVCSWkid(0)
Pixel Size X: 100.0
Pixel Size Y: 100.0
Band Count: 1
Pixel Type: F32
RasterFunction Infos: {"rasterFunctionInfos": [
{
"name": "layer_bahaya_kebakaran_hutan_dan_lahan",
"description": "layer_bahaya_kebakaran_hutan_dan_lahan",
"help": ""
},
{
"name": "None",
"description": "",
"help": ""
}
]}
Mensuration Capabilities: Basic
Inspection Capabilities:
Has Histograms: true
Has Colormap: false
Has Multi Dimensions : false
Rendering Rule:
Min Scale: 0
Max Scale: 0
Resampling: false
Copyright Text:
Service Data Type: esriImageServiceDataTypeGeneric
Min Values: 0.010000000707805157
Max Values: 1.0000001192092896
Mean Values: 0.43482489117452305
Standard Deviation Values: 0.24435436378191894
Object ID Field:
Fields:
None
Default Mosaic Method: Center
Allowed Mosaic Methods:
SortField:
SortValue: null
Mosaic Operator: First
Default Compression Quality: 75
Default Resampling Method: Bilinear
Max Record Count: null
Max Image Height: 4100
Max Image Width: 15000
Max Download Image Count: null
Max Mosaic Image Count: null
Allow Raster Function: true
Allow Copy: true
Allow Analysis: true
Allow Compute TiePoints: false
Supports Statistics: false
Supports Advanced Queries: false
Use StandardizedQueries: true
Raster Type Infos:
Name: Raster Dataset
Description: Supports all ArcGIS Raster Datasets
Help:
Has Raster Attribute Table: false
Edit Fields Info: null
Ownership Based AccessControl For Rasters: null
Child Resources:
Info
Histograms
Statistics
Key Properties
Legend
Raster Function Infos
Supported Operations:
Export Image
Identify
Measure
Compute Histograms
Compute Statistics Histograms
Get Samples
Compute Class Statistics
Query Boundary
Compute Pixel Location
Compute Angles
Validate
Project