View In:
ArcGIS JavaScript
ArcGIS Online Map Viewer
ArcGIS Earth
Service Description: inarisk/layer_risiko_gempabumi_jkt
Name: inarisk/layer_risiko_gempabumi_jkt
Description:
Single Fused Map Cache: false
Extent:
XMin: 686587.9174263431
YMin: 9295419.933858348
XMax: 718312.9174263431
YMax: 9326649.933858348
Spatial Reference: 32748
(32748)
LatestVCSWkid(0)
Initial Extent:
XMin: 686587.9174263431
YMin: 9295419.933858348
XMax: 718312.9174263431
YMax: 9326649.933858348
Spatial Reference: 32748
(32748)
LatestVCSWkid(0)
Full Extent:
XMin: 686587.9174263431
YMin: 9295419.933858348
XMax: 718312.9174263431
YMax: 9326649.933858348
Spatial Reference: 32748
(32748)
LatestVCSWkid(0)
Pixel Size X: 5.0
Pixel Size Y: 5.0
Band Count: 1
Pixel Type: F64
RasterFunction Infos: {"rasterFunctionInfos": [
{
"name": "layer_risiko_gempabumi_jkt",
"description": "layer_risiko_gempabumi_jkt\n",
"help": ""
},
{
"name": "None",
"description": "",
"help": ""
}
]}
Mensuration Capabilities: Basic
Inspection Capabilities:
Has Histograms: true
Has Colormap: false
Has Multi Dimensions : false
Rendering Rule:
Min Scale: 0
Max Scale: 0
Resampling: false
Copyright Text:
Service Data Type: esriImageServiceDataTypeGeneric
Min Values: 0
Max Values: 0.666667
Mean Values: 0.5007910108883419
Standard Deviation Values: 0.17051698782591027
Object ID Field:
Fields:
None
Default Mosaic Method: Center
Allowed Mosaic Methods:
SortField:
SortValue: null
Mosaic Operator: First
Default Compression Quality: 75
Default Resampling Method: Bilinear
Max Record Count: null
Max Image Height: 4100
Max Image Width: 15000
Max Download Image Count: null
Max Mosaic Image Count: null
Allow Raster Function: true
Allow Copy: true
Allow Analysis: true
Allow Compute TiePoints: false
Supports Statistics: false
Supports Advanced Queries: false
Use StandardizedQueries: true
Raster Type Infos:
Name: Raster Dataset
Description: Supports all ArcGIS Raster Datasets
Help:
Has Raster Attribute Table: false
Edit Fields Info: null
Ownership Based AccessControl For Rasters: null
Child Resources:
Info
Histograms
Statistics
Key Properties
Legend
Raster Function Infos
Supported Operations:
Export Image
Identify
Measure
Compute Histograms
Compute Statistics Histograms
Get Samples
Compute Class Statistics
Query Boundary
Compute Pixel Location
Compute Angles
Validate
Project