View In:
ArcGIS JavaScript
ArcGIS Online Map Viewer
ArcGIS Earth
Service Description: thematic/Demnas_marapi
Name: thematic/Demnas_marapi
Description:
Single Fused Map Cache: false
Extent:
XMin: 100.35553555355536
YMin: -0.5136513651365151
XMax: 100.63133813381339
YMax: -0.23604860486048268
Spatial Reference: 4326
(4326)
LatestVCSWkid(0)
Initial Extent:
XMin: 100.35553555355536
YMin: -0.5136513651365151
XMax: 100.63133813381339
YMax: -0.23604860486048268
Spatial Reference: 4326
(4326)
LatestVCSWkid(0)
Full Extent:
XMin: 100.35553555355536
YMin: -0.5136513651365151
XMax: 100.63133813381339
YMax: -0.23604860486048268
Spatial Reference: 4326
(4326)
LatestVCSWkid(0)
Pixel Size X: 7.500750075007631E-5
Pixel Size Y: 7.500750075007631E-5
Band Count: 1
Pixel Type: F32
RasterFunction Infos: {"rasterFunctionInfos": [{
"name": "None",
"description": "",
"help": ""
}]}
Mensuration Capabilities: Basic
Inspection Capabilities:
Has Histograms: true
Has Colormap: false
Has Multi Dimensions : false
Rendering Rule:
Min Scale: 0
Max Scale: 0
Copyright Text:
Service Data Type: esriImageServiceDataTypeGeneric
Min Values: 283.6064147949219
Max Values: 2890.7646484375
Mean Values: 932.4934001560026
Standard Deviation Values: 390.4267761173477
Object ID Field:
Fields:
None
Default Mosaic Method: Center
Allowed Mosaic Methods:
SortField:
SortValue: null
Mosaic Operator: First
Default Compression Quality: 75
Default Resampling Method: Bilinear
Max Record Count: null
Max Image Height: 4100
Max Image Width: 15000
Max Download Image Count: null
Max Mosaic Image Count: null
Allow Raster Function: true
Allow Copy: true
Allow Analysis: true
Allow Compute TiePoints: false
Supports Statistics: false
Supports Advanced Queries: false
Use StandardizedQueries: true
Raster Type Infos:
Name: Raster Dataset
Description: Supports all ArcGIS Raster Datasets
Help:
Has Raster Attribute Table: false
Edit Fields Info: null
Ownership Based AccessControl For Rasters: null
Child Resources:
Info
Histograms
Statistics
Key Properties
Legend
Raster Function Infos
Supported Operations:
Export Image
Identify
Measure
Compute Histograms
Compute Statistics Histograms
Get Samples
Compute Class Statistics
Query Boundary
Compute Pixel Location
Compute Angles
Validate
Project