View In:
ArcGIS JavaScript
ArcGIS Online Map Viewer
ArcGIS Earth
Service Description: thematic/GFI
Name: thematic/GFI
Description:
Single Fused Map Cache: false
Extent:
XMin: 94.99958333333333
YMin: -11.007615370214996
XMax: 141.0204166666667
YMax: 6.076551296451687
Spatial Reference: 4326
(4326)
LatestVCSWkid(0)
Initial Extent:
XMin: 94.99958333333333
YMin: -11.007615370214996
XMax: 141.0204166666667
YMax: 6.076551296451687
Spatial Reference: 4326
(4326)
LatestVCSWkid(0)
Full Extent:
XMin: 94.99958333333333
YMin: -11.007615370214996
XMax: 141.0204166666667
YMax: 6.076551296451687
Spatial Reference: 4326
(4326)
LatestVCSWkid(0)
Pixel Size X: 8.33333333333334E-4
Pixel Size Y: 8.333333333333341E-4
Band Count: 1
Pixel Type: F32
RasterFunction Infos: {"rasterFunctionInfos": [
{
"name": "GFI",
"description": "GFI",
"help": ""
},
{
"name": "None",
"description": "",
"help": ""
}
]}
Mensuration Capabilities: Basic
Inspection Capabilities:
Has Histograms: true
Has Colormap: false
Has Multi Dimensions : false
Rendering Rule:
Min Scale: 0
Max Scale: 0
Copyright Text:
Service Data Type: esriImageServiceDataTypeGeneric
Min Values: -0.5
Max Values: 1.5
Mean Values: 0.19404161770227357
Standard Deviation Values: 0.3454548595043648
Object ID Field:
Fields:
None
Default Mosaic Method: Center
Allowed Mosaic Methods:
SortField:
SortValue: null
Mosaic Operator: First
Default Compression Quality: 75
Default Resampling Method: Bilinear
Max Record Count: null
Max Image Height: 4100
Max Image Width: 15000
Max Download Image Count: null
Max Mosaic Image Count: null
Allow Raster Function: true
Allow Copy: true
Allow Analysis: true
Allow Compute TiePoints: false
Supports Statistics: false
Supports Advanced Queries: false
Use StandardizedQueries: true
Raster Type Infos:
Name: Raster Dataset
Description: Supports all ArcGIS Raster Datasets
Help:
Has Raster Attribute Table: false
Edit Fields Info: null
Ownership Based AccessControl For Rasters: null
Child Resources:
Info
Histograms
Statistics
Key Properties
Legend
Raster Function Infos
Supported Operations:
Export Image
Identify
Measure
Compute Histograms
Compute Statistics Histograms
Get Samples
Compute Class Statistics
Query Boundary
Compute Pixel Location
Compute Angles
Validate
Project