View In:
ArcGIS JavaScript
ArcGIS Online Map Viewer
ArcGIS Earth
Service Description: thematic/fabdem_marapi
Name: thematic/fabdem_marapi
Description:
Single Fused Map Cache: false
Extent:
XMin: 100.35541666666667
YMin: -0.5137499999999999
XMax: 100.63152777777778
YMax: -0.23597222222222697
Spatial Reference: 4326
(4326)
LatestVCSWkid(0)
Initial Extent:
XMin: 100.35541666666667
YMin: -0.5137499999999999
XMax: 100.63152777777778
YMax: -0.23597222222222697
Spatial Reference: 4326
(4326)
LatestVCSWkid(0)
Full Extent:
XMin: 100.35541666666667
YMin: -0.5137499999999999
XMax: 100.63152777777778
YMax: -0.23597222222222697
Spatial Reference: 4326
(4326)
LatestVCSWkid(0)
Pixel Size X: 2.7777777777777295E-4
Pixel Size Y: 2.7777777777777295E-4
Band Count: 1
Pixel Type: F32
RasterFunction Infos: {"rasterFunctionInfos": [{
"name": "None",
"description": "",
"help": ""
}]}
Mensuration Capabilities: Basic
Inspection Capabilities:
Has Histograms: true
Has Colormap: false
Has Multi Dimensions : false
Rendering Rule:
Min Scale: 0
Max Scale: 0
Copyright Text:
Service Data Type: esriImageServiceDataTypeGeneric
Min Values: 278.6099853515625
Max Values: 2878.159912109375
Mean Values: 928.4378799168371
Standard Deviation Values: 390.5521760725708
Object ID Field:
Fields:
None
Default Mosaic Method: Center
Allowed Mosaic Methods:
SortField:
SortValue: null
Mosaic Operator: First
Default Compression Quality: 75
Default Resampling Method: Bilinear
Max Record Count: null
Max Image Height: 4100
Max Image Width: 15000
Max Download Image Count: null
Max Mosaic Image Count: null
Allow Raster Function: true
Allow Copy: true
Allow Analysis: true
Allow Compute TiePoints: false
Supports Statistics: false
Supports Advanced Queries: false
Use StandardizedQueries: true
Raster Type Infos:
Name: Raster Dataset
Description: Supports all ArcGIS Raster Datasets
Help:
Has Raster Attribute Table: false
Edit Fields Info: null
Ownership Based AccessControl For Rasters: null
Child Resources:
Info
Histograms
Statistics
Key Properties
Legend
Raster Function Infos
Supported Operations:
Export Image
Identify
Measure
Compute Histograms
Compute Statistics Histograms
Get Samples
Compute Class Statistics
Query Boundary
Compute Pixel Location
Compute Angles
Validate
Project