View In:
ArcGIS JavaScript
ArcGIS Online Map Viewer
ArcGIS Earth
Service Description: IKN/Indeks_kerentanan_Banjir
Name: IKN/Indeks_kerentanan_Banjir
Description:
Single Fused Map Cache: false
Extent:
XMin: 467802.0019227024
YMin: 9888741.196203219
XMax: 485934.5019227024
YMax: 9909293.696203219
Spatial Reference: 32750
(32750)
LatestVCSWkid(0)
Initial Extent:
XMin: 467802.0019227024
YMin: 9888741.196203219
XMax: 485934.5019227024
YMax: 9909293.696203219
Spatial Reference: 32750
(32750)
LatestVCSWkid(0)
Full Extent:
XMin: 467802.0019227024
YMin: 9888741.196203219
XMax: 485934.5019227024
YMax: 9909293.696203219
Spatial Reference: 32750
(32750)
LatestVCSWkid(0)
Pixel Size X: 2.5
Pixel Size Y: 2.5
Band Count: 1
Pixel Type: F64
RasterFunction Infos: {"rasterFunctionInfos": [
{
"name": "Indeks_kerentanan_Banjir_rev",
"description": "Indeks_kerentanan_Banjir_rev",
"help": ""
},
{
"name": "None",
"description": "",
"help": ""
}
]}
Mensuration Capabilities: Basic
Inspection Capabilities:
Has Histograms: true
Has Colormap: false
Has Multi Dimensions : false
Rendering Rule:
Min Scale: 0
Max Scale: 0
Copyright Text:
Service Data Type: esriImageServiceDataTypeGeneric
Min Values: 0.296
Max Values: 0.513
Mean Values: 0.32941348420961797
Standard Deviation Values: 0.04886843610580193
Object ID Field:
Fields:
None
Default Mosaic Method: Center
Allowed Mosaic Methods:
SortField:
SortValue: null
Mosaic Operator: First
Default Compression Quality: 75
Default Resampling Method: Bilinear
Max Record Count: null
Max Image Height: 4100
Max Image Width: 15000
Max Download Image Count: null
Max Mosaic Image Count: null
Allow Raster Function: true
Allow Copy: true
Allow Analysis: true
Allow Compute TiePoints: false
Supports Statistics: false
Supports Advanced Queries: false
Use StandardizedQueries: true
Raster Type Infos:
Name: Raster Dataset
Description: Supports all ArcGIS Raster Datasets
Help:
Has Raster Attribute Table: false
Edit Fields Info: null
Ownership Based AccessControl For Rasters: null
Child Resources:
Info
Histograms
Statistics
Key Properties
Legend
Raster Function Infos
Supported Operations:
Export Image
Identify
Measure
Compute Histograms
Compute Statistics Histograms
Get Samples
Compute Class Statistics
Query Boundary
Compute Pixel Location
Compute Angles
Validate
Project