View In:
ArcGIS JavaScript
ArcGIS Online Map Viewer
ArcGIS Earth
Service Description: inarisk/LAYER_INDEKS_SE
Name: inarisk/LAYER_INDEKS_SE
Description:
Single Fused Map Cache: false
Extent:
XMin: 1.1699664426172283E7
YMin: -974740.1320339516
XMax: 1.2943664426172283E7
YMax: -557740.1320339516
Spatial Reference: 3395
(3395)
LatestVCSWkid(0)
Initial Extent:
XMin: 1.1699664426172283E7
YMin: -974740.1320339516
XMax: 1.2943664426172283E7
YMax: -557740.1320339516
Spatial Reference: 3395
(3395)
LatestVCSWkid(0)
Full Extent:
XMin: 1.1699664426172283E7
YMin: -974740.1320339516
XMax: 1.2943664426172283E7
YMax: -557740.1320339516
Spatial Reference: 3395
(3395)
LatestVCSWkid(0)
Pixel Size X: 1000.0
Pixel Size Y: 1000.0
Band Count: 1
Pixel Type: F32
RasterFunction Infos: {"rasterFunctionInfos": [
{
"name": "LAYER_INDEKS_SE",
"description": "LAYER_INDEKS_SE",
"help": ""
},
{
"name": "layer indeks bahaya banjir",
"description": "layer indeks bahaya banjir",
"help": ""
},
{
"name": "global_tsunami_modelling",
"description": "global tsunami modelling",
"help": ""
},
{
"name": "index_bahaya_banjir",
"description": "index_bahaya_banjir",
"help": ""
},
{
"name": "layer_bahaya_covid19",
"description": "layer_bahaya_covid19",
"help": ""
},
{
"name": "layer_bahaya_cuaca_ekstrim",
"description": "layer_bahaya_cuaca_ekstrim",
"help": ""
},
{
"name": "layer_bahaya_gelombang_ekstrim_dan_abrasi",
"description": "layer_bahaya_gelombang_ekstrim_dan_abrasi",
"help": ""
},
{
"name": "layer_bahaya_gempabumi",
"description": "layer_bahaya_gempabumi",
"help": ""
},
{
"name": "layer_bahaya_gempabumi_klasifikasi_PVMBG",
"description": "layer_bahaya_gempabumi_klasifikasi_PVMBG",
"help": ""
},
{
"name": "layer_bahaya_kekeringan",
"description": "layer_bahaya_kekeringan",
"help": ""
},
{
"name": "layer_bahaya_letusan_gunungapi",
"description": "layer_bahaya_letusan_gunungapi",
"help": ""
},
{
"name": "layer_bahaya_multi",
"description": "layer_bahaya_multi",
"help": ""
},
{
"name": "LAYER_INDEKS_KA",
"description": "LAYER_INDEKS_KA",
"help": ""
},
{
"name": "None",
"description": "",
"help": ""
}
]}
Mensuration Capabilities: Basic
Inspection Capabilities:
Has Histograms: true
Has Colormap: false
Has Multi Dimensions : false
Rendering Rule:
Min Scale: 0
Max Scale: 0
Resampling: false
Copyright Text:
Service Data Type: esriImageServiceDataTypeGeneric
Min Values: 0
Max Values: 0.7472293376922607
Mean Values: 0.3832406440384429
Standard Deviation Values: 0.2030189186863368
Object ID Field:
Fields:
None
Default Mosaic Method: Center
Allowed Mosaic Methods:
SortField:
SortValue: null
Mosaic Operator: First
Default Compression Quality: 75
Default Resampling Method: Bilinear
Max Record Count: null
Max Image Height: 4100
Max Image Width: 15000
Max Download Image Count: null
Max Mosaic Image Count: null
Allow Raster Function: true
Allow Copy: true
Allow Analysis: true
Allow Compute TiePoints: false
Supports Statistics: false
Supports Advanced Queries: false
Use StandardizedQueries: true
Raster Type Infos:
Name: Raster Dataset
Description: Supports all ArcGIS Raster Datasets
Help:
Has Raster Attribute Table: false
Edit Fields Info: null
Ownership Based AccessControl For Rasters: null
Child Resources:
Info
Histograms
Statistics
Key Properties
Legend
Raster Function Infos
Supported Operations:
Export Image
Identify
Measure
Compute Histograms
Compute Statistics Histograms
Get Samples
Compute Class Statistics
Query Boundary
Compute Pixel Location
Compute Angles
Validate
Project