View In:
ArcGIS JavaScript
ArcGIS Online Map Viewer
ArcGIS Earth
Service Description: inarisk/global_tsunami_modelling
Name: inarisk/global_tsunami_modelling
Description:
Single Fused Map Cache: false
Extent:
XMin: 55.0
YMin: -25.0
XMax: 160.00000210000002
YMax: 50.000001499999996
Spatial Reference: 4326
(4326)
LatestVCSWkid(0)
Initial Extent:
XMin: 55.0
YMin: -25.0
XMax: 160.00000210000002
YMax: 50.000001499999996
Spatial Reference: 4326
(4326)
LatestVCSWkid(0)
Full Extent:
XMin: 55.0
YMin: -25.0
XMax: 160.00000210000002
YMax: 50.000001499999996
Spatial Reference: 4326
(4326)
LatestVCSWkid(0)
Pixel Size X: 0.016666667000000003
Pixel Size Y: 0.016666667
Band Count: 1
Pixel Type: F32
RasterFunction Infos: {"rasterFunctionInfos": [
{
"name": "global_tsunami_modelling",
"description": "global tsunami modelling",
"help": ""
},
{
"name": "layer indeks bahaya banjir",
"description": "layer indeks bahaya banjir",
"help": ""
},
{
"name": "None",
"description": "",
"help": ""
}
]}
Mensuration Capabilities: Basic
Inspection Capabilities:
Has Histograms: true
Has Colormap: false
Has Multi Dimensions : false
Rendering Rule:
Min Scale: 0
Max Scale: 0
Resampling: false
Copyright Text:
Service Data Type: esriImageServiceDataTypeGeneric
Min Values: -10
Max Values: 46.97999954223633
Mean Values: -3.3513065385209777
Standard Deviation Values: 4.989502077309449
Object ID Field:
Fields:
None
Default Mosaic Method: Center
Allowed Mosaic Methods:
SortField:
SortValue: null
Mosaic Operator: First
Default Compression Quality: 75
Default Resampling Method: Bilinear
Max Record Count: null
Max Image Height: 4100
Max Image Width: 15000
Max Download Image Count: null
Max Mosaic Image Count: null
Allow Raster Function: false
Allow Copy: true
Allow Analysis: true
Allow Compute TiePoints: false
Supports Statistics: false
Supports Advanced Queries: false
Use StandardizedQueries: true
Raster Type Infos:
Name: Raster Dataset
Description: Supports all ArcGIS Raster Datasets
Help:
Has Raster Attribute Table: false
Edit Fields Info: null
Ownership Based AccessControl For Rasters: null
Child Resources:
Info
Histograms
Statistics
Key Properties
Legend
Raster Function Infos
Supported Operations:
Export Image
Identify
Measure
Compute Histograms
Compute Statistics Histograms
Get Samples
Compute Class Statistics
Query Boundary
Compute Pixel Location
Compute Angles
Validate
Project