View In:
ArcGIS JavaScript
ArcGIS Online Map Viewer
ArcGIS Earth
Service Description: thematic/Layer_bahaya_B3
Name: thematic/Layer_bahaya_B3
Description:
Single Fused Map Cache: false
Extent:
XMin: 1.1787879685023515E7
YMin: -675311.3303706149
XMax: 1.1817279685023515E7
YMax: -650811.3303706149
Spatial Reference: 3395
(3395)
LatestVCSWkid(0)
Initial Extent:
XMin: 1.1787879685023515E7
YMin: -675311.3303706149
XMax: 1.1817279685023515E7
YMax: -650811.3303706149
Spatial Reference: 3395
(3395)
LatestVCSWkid(0)
Full Extent:
XMin: 1.1787879685023515E7
YMin: -675311.3303706149
XMax: 1.1817279685023515E7
YMax: -650811.3303706149
Spatial Reference: 3395
(3395)
LatestVCSWkid(0)
Pixel Size X: 100.0
Pixel Size Y: 100.0
Band Count: 1
Pixel Type: U8
RasterFunction Infos: {"rasterFunctionInfos": [{
"name": "None",
"description": "",
"help": ""
}]}
Mensuration Capabilities: Basic
Inspection Capabilities:
Has Histograms: true
Has Colormap: false
Has Multi Dimensions : false
Rendering Rule:
Min Scale: 0
Max Scale: 0
Copyright Text:
Service Data Type: esriImageServiceDataTypeGeneric
Min Values: 1
Max Values: 3
Mean Values: 2.0928856791641057
Standard Deviation Values: 0.838045638857202
Object ID Field:
Fields:
None
Default Mosaic Method: Center
Allowed Mosaic Methods:
SortField:
SortValue: null
Mosaic Operator: First
Default Compression Quality: 75
Default Resampling Method: Bilinear
Max Record Count: null
Max Image Height: 4100
Max Image Width: 15000
Max Download Image Count: null
Max Mosaic Image Count: null
Allow Raster Function: true
Allow Copy: true
Allow Analysis: true
Allow Compute TiePoints: false
Supports Statistics: false
Supports Advanced Queries: false
Use StandardizedQueries: true
Raster Type Infos:
Name: Raster Dataset
Description: Supports all ArcGIS Raster Datasets
Help:
Has Raster Attribute Table: true
Edit Fields Info: null
Ownership Based AccessControl For Rasters: null
Child Resources:
Info
Raster Attribute Table
Histograms
Statistics
Key Properties
Legend
Raster Function Infos
Supported Operations:
Export Image
Identify
Measure
Compute Histograms
Compute Statistics Histograms
Get Samples
Compute Class Statistics
Query Boundary
Compute Pixel Location
Compute Angles
Validate
Project