View In:
ArcGIS JavaScript
ArcGIS Online Map Viewer
ArcGIS Earth
Service Description: thematic/ShadedRelief1_TOPO_Ambbon
Name: thematic/ShadedRelief1_TOPO_Ambbon
Description:
Single Fused Map Cache: false
Extent:
XMin: 406500.0
YMin: 9589500.0
XMax: 417100.0
YMax: 9599500.0
Spatial Reference: 32752
(32752)
LatestVCSWkid(0)
Initial Extent:
XMin: 406500.0
YMin: 9589500.0
XMax: 417100.0
YMax: 9599500.0
Spatial Reference: 32752
(32752)
LatestVCSWkid(0)
Full Extent:
XMin: 406500.0
YMin: 9589500.0
XMax: 417100.0
YMax: 9599500.0
Spatial Reference: 32752
(32752)
LatestVCSWkid(0)
Pixel Size X: 5.0
Pixel Size Y: 5.0
Band Count: 3
Pixel Type: U8
RasterFunction Infos: {"rasterFunctionInfos": [{
"name": "None",
"description": "",
"help": ""
}]}
Mensuration Capabilities: Basic
Inspection Capabilities:
Has Histograms: true
Has Colormap: false
Has Multi Dimensions : false
Rendering Rule:
Min Scale: 0
Max Scale: 0
Copyright Text:
Service Data Type: esriImageServiceDataTypeRGB
Min Values: 0, 0, 0
Max Values: 255, 255, 243
Mean Values: 142.05202653078007, 131.55471784343362, 42.976433232098955
Standard Deviation Values: 59.35792132768092, 60.476053435454475, 42.78342398418441
Object ID Field:
Fields:
None
Default Mosaic Method: Center
Allowed Mosaic Methods:
SortField:
SortValue: null
Mosaic Operator: First
Default Compression Quality: 75
Default Resampling Method: Bilinear
Max Record Count: null
Max Image Height: 4100
Max Image Width: 15000
Max Download Image Count: null
Max Mosaic Image Count: null
Allow Raster Function: true
Allow Copy: true
Allow Analysis: true
Allow Compute TiePoints: false
Supports Statistics: false
Supports Advanced Queries: false
Use StandardizedQueries: true
Raster Type Infos:
Name: Raster Dataset
Description: Supports all ArcGIS Raster Datasets
Help:
Has Raster Attribute Table: false
Edit Fields Info: null
Ownership Based AccessControl For Rasters: null
Child Resources:
Info
Histograms
Statistics
Key Properties
Legend
Raster Function Infos
Supported Operations:
Export Image
Identify
Measure
Compute Histograms
Compute Statistics Histograms
Get Samples
Compute Class Statistics
Query Boundary
Compute Pixel Location
Compute Angles
Validate
Project